BEGIN:VCALENDAR
VERSION:2.0
PRODID:-//Siskiyou Community Health Center - ECPv6.15.20//NONSGML v1.0//EN
CALSCALE:GREGORIAN
METHOD:PUBLISH
X-WR-CALNAME:Siskiyou Community Health Center
X-ORIGINAL-URL:https://siskiyouhealthcenter.com
X-WR-CALDESC:Events for Siskiyou Community Health Center
REFRESH-INTERVAL;VALUE=DURATION:PT1H
X-Robots-Tag:noindex
X-PUBLISHED-TTL:PT1H
BEGIN:VTIMEZONE
TZID:UTC
BEGIN:STANDARD
TZOFFSETFROM:+0000
TZOFFSETTO:+0000
TZNAME:UTC
DTSTART:20220101T000000
END:STANDARD
END:VTIMEZONE
BEGIN:VEVENT
DTSTART;TZID=UTC:20231013T090000
DTEND;TZID=UTC:20231013T180000
DTSTAMP:20260425T125548
CREATED:20231012T023739Z
LAST-MODIFIED:20231012T030259Z
UID:6043-1697187600-1697220000@siskiyouhealthcenter.com
SUMMARY:Flu and COVID-19 Shot Clinics
DESCRIPTION:Time to protect yourself and your loved ones from the Flu and COVID. \nSiskiyou Community Health Center is offering drive-thru flu and COVID vaccines for the entire month of October. \nNo appointment is necessary and you can stay in your car. At the same time\, ask for the updated Moderna COVID-19 vaccine to provide protection against the latest COVID variants.* You do not need to be a patient of Siskiyou to visit our shot clinics. For more information on the vaccines\, click here. \nIf you do not have insurance\, or are under-insured\, you may qualify for financial assistance. You can find the application here. \nPlease complete the application prior to your arrival at the flu clinic\, or payment will be collected at that time. \n*COVID vaccines based on availability.
URL:https://siskiyouhealthcenter.com/event/flu-and-covid-19-shot-clinics-2/
END:VEVENT
END:VCALENDAR