BEGIN:VCALENDAR
VERSION:2.0
PRODID:-//Siskiyou Community Health Center - ECPv6.15.20//NONSGML v1.0//EN
CALSCALE:GREGORIAN
METHOD:PUBLISH
X-WR-CALNAME:Siskiyou Community Health Center
X-ORIGINAL-URL:https://siskiyouhealthcenter.com
X-WR-CALDESC:Events for Siskiyou Community Health Center
REFRESH-INTERVAL;VALUE=DURATION:PT1H
X-Robots-Tag:noindex
X-PUBLISHED-TTL:PT1H
BEGIN:VTIMEZONE
TZID:UTC
BEGIN:STANDARD
TZOFFSETFROM:+0000
TZOFFSETTO:+0000
TZNAME:UTC
DTSTART:20220101T000000
END:STANDARD
END:VTIMEZONE
BEGIN:VEVENT
DTSTART;VALUE=DATE:20231123
DTEND;VALUE=DATE:20231124
DTSTAMP:20260425T113132
CREATED:20231102T232731Z
LAST-MODIFIED:20231102T232731Z
UID:6195-1700697600-1700783999@siskiyouhealthcenter.com
SUMMARY:Thanksgiving Holiday Hours
DESCRIPTION:All departments and locations will be closed today in observance of the Thanksgiving holiday.
URL:https://siskiyouhealthcenter.com/event/thanksgiving-holiday-hours/
END:VEVENT
END:VCALENDAR