BEGIN:VCALENDAR
VERSION:2.0
PRODID:-//Siskiyou Community Health Center - ECPv6.15.20//NONSGML v1.0//EN
CALSCALE:GREGORIAN
METHOD:PUBLISH
X-ORIGINAL-URL:https://siskiyouhealthcenter.com
X-WR-CALDESC:Events for Siskiyou Community Health Center
REFRESH-INTERVAL;VALUE=DURATION:PT1H
X-Robots-Tag:noindex
X-PUBLISHED-TTL:PT1H
BEGIN:VTIMEZONE
TZID:UTC
BEGIN:STANDARD
TZOFFSETFROM:+0000
TZOFFSETTO:+0000
TZNAME:UTC
DTSTART:20220101T000000
END:STANDARD
END:VTIMEZONE
BEGIN:VEVENT
DTSTART;VALUE=DATE:20231207
DTEND;VALUE=DATE:20231208
DTSTAMP:20260425T071832
CREATED:20231024T052037Z
LAST-MODIFIED:20231024T052037Z
UID:6139-1701907200-1701993599@siskiyouhealthcenter.com
SUMMARY:Mobile CareVan Dental Clinic
DESCRIPTION:Our mobile dental CareVan will be at Parkside Elementary School on Thursday\, December 7th providing dental screenings to all students who have a completed consent form. If you have a child that attends Parkside and you would like them to be seen\, you can complete the form at https://siskiyouhealthcenter.com/dept/kids-smile-dental-prevention-program/.
URL:https://siskiyouhealthcenter.com/event/mobile-carevan-dental-clinic-8/
LOCATION:Parkside Elementary School\, 735 SW Wagner Meadows Dr.\, Grants Pass\, OR\, 97526\, United States
END:VEVENT
END:VCALENDAR