BEGIN:VCALENDAR
VERSION:2.0
PRODID:-//Siskiyou Community Health Center - ECPv6.15.20//NONSGML v1.0//EN
CALSCALE:GREGORIAN
METHOD:PUBLISH
X-WR-CALNAME:Siskiyou Community Health Center
X-ORIGINAL-URL:https://siskiyouhealthcenter.com
X-WR-CALDESC:Events for Siskiyou Community Health Center
REFRESH-INTERVAL;VALUE=DURATION:PT1H
X-Robots-Tag:noindex
X-PUBLISHED-TTL:PT1H
BEGIN:VTIMEZONE
TZID:UTC
BEGIN:STANDARD
TZOFFSETFROM:+0000
TZOFFSETTO:+0000
TZNAME:UTC
DTSTART:20220101T000000
END:STANDARD
END:VTIMEZONE
BEGIN:VEVENT
DTSTART;TZID=UTC:20231223T090000
DTEND;TZID=UTC:20231223T090000
DTSTAMP:20260425T101639
CREATED:20231202T073658Z
LAST-MODIFIED:20231202T074459Z
UID:6308-1703322000-1703322000@siskiyouhealthcenter.com
SUMMARY:Holiday Hours
DESCRIPTION:Walk-In Clinic open 9am to 1pm (both locations).
URL:https://siskiyouhealthcenter.com/event/holiday-hours-4/
END:VEVENT
BEGIN:VEVENT
DTSTART;TZID=UTC:20231223T090000
DTEND;TZID=UTC:20231223T160000
DTSTAMP:20260425T101639
CREATED:20231202T073806Z
LAST-MODIFIED:20231202T074443Z
UID:6312-1703322000-1703347200@siskiyouhealthcenter.com
SUMMARY:Holiday Hours
DESCRIPTION:Pharmacy open 9am to 4pm (both locations).
URL:https://siskiyouhealthcenter.com/event/holiday-hours-5/
END:VEVENT
END:VCALENDAR