BEGIN:VCALENDAR
VERSION:2.0
PRODID:-//Siskiyou Community Health Center - ECPv6.15.20//NONSGML v1.0//EN
CALSCALE:GREGORIAN
METHOD:PUBLISH
X-WR-CALNAME:Siskiyou Community Health Center
X-ORIGINAL-URL:https://siskiyouhealthcenter.com
X-WR-CALDESC:Events for Siskiyou Community Health Center
REFRESH-INTERVAL;VALUE=DURATION:PT1H
X-Robots-Tag:noindex
X-PUBLISHED-TTL:PT1H
BEGIN:VTIMEZONE
TZID:UTC
BEGIN:STANDARD
TZOFFSETFROM:+0000
TZOFFSETTO:+0000
TZNAME:UTC
DTSTART:20230101T000000
END:STANDARD
END:VTIMEZONE
BEGIN:VEVENT
DTSTART;TZID=UTC:20240523T110000
DTEND;TZID=UTC:20240523T123000
DTSTAMP:20260425T154125
CREATED:20240508T022154Z
LAST-MODIFIED:20240508T023931Z
UID:6747-1716462000-1716467400@siskiyouhealthcenter.com
SUMMARY:Playgroup
DESCRIPTION:Join Siskiyou Community Health Center’s Outreach program at our FREE interactive parent/child playgroup\, which will be held in Cave Junction on May 23rd from 11am to 12:30pm. You do not need to be connected to our program to attend\, but you can learn more about our home visiting program and family supports available. You can also meet other parents and families to make connections. We hope to see you there!
URL:https://siskiyouhealthcenter.com/event/playgroup/
LOCATION:Siskiyou Community Health Center Cave Junction\, 25647 Redwood Hwy.\, Cave Junction\, OR\, 97523\, United States
END:VEVENT
END:VCALENDAR