BEGIN:VCALENDAR
VERSION:2.0
PRODID:-//Siskiyou Community Health Center - ECPv6.15.20//NONSGML v1.0//EN
CALSCALE:GREGORIAN
METHOD:PUBLISH
X-WR-CALNAME:Siskiyou Community Health Center
X-ORIGINAL-URL:https://siskiyouhealthcenter.com
X-WR-CALDESC:Events for Siskiyou Community Health Center
REFRESH-INTERVAL;VALUE=DURATION:PT1H
X-Robots-Tag:noindex
X-PUBLISHED-TTL:PT1H
BEGIN:VTIMEZONE
TZID:UTC
BEGIN:STANDARD
TZOFFSETFROM:+0000
TZOFFSETTO:+0000
TZNAME:UTC
DTSTART:20230101T000000
END:STANDARD
END:VTIMEZONE
BEGIN:VEVENT
DTSTART;TZID=UTC:20240830T140000
DTEND;TZID=UTC:20240830T153000
DTSTAMP:20260425T192521
CREATED:20240821T023340Z
LAST-MODIFIED:20240821T023340Z
UID:6988-1725026400-1725031800@siskiyouhealthcenter.com
SUMMARY:Playgroup
DESCRIPTION:Siskiyou Community Health Center playgroups offer benefits for both children and caregivers. Playgroups allow children to try out new toys and activities\, learn how to play with other children\, encourage them to work on their language and communication skills\, build their confidence and promote happiness while building their social skills. Playgroups allow caregivers to socialize with other parents\, learn more about child development and other fun events happening in the community. \nCave Junction: August 22nd 11am to 12:30pm – 25647 Redwood Hwy. \nMedford: August 30th 2pm to 3:3opm – 1380 Biddle Rd.\, Suite D
URL:https://siskiyouhealthcenter.com/event/playgroup-6/
LOCATION:SCHC Medford Early Childhood Support\, 1380 Biddle Rd.\, Suite D\, Medford\, OR\, 97504\, United States
END:VEVENT
END:VCALENDAR