BEGIN:VCALENDAR
VERSION:2.0
PRODID:-//Siskiyou Community Health Center - ECPv6.15.20//NONSGML v1.0//EN
CALSCALE:GREGORIAN
METHOD:PUBLISH
X-ORIGINAL-URL:https://siskiyouhealthcenter.com
X-WR-CALDESC:Events for Siskiyou Community Health Center
REFRESH-INTERVAL;VALUE=DURATION:PT1H
X-Robots-Tag:noindex
X-PUBLISHED-TTL:PT1H
BEGIN:VTIMEZONE
TZID:UTC
BEGIN:STANDARD
TZOFFSETFROM:+0000
TZOFFSETTO:+0000
TZNAME:UTC
DTSTART:20230101T000000
END:STANDARD
END:VTIMEZONE
BEGIN:VEVENT
DTSTART;TZID=UTC:20240911T170000
DTEND;TZID=UTC:20240911T183000
DTSTAMP:20260425T204956
CREATED:20240904T050839Z
LAST-MODIFIED:20240904T051023Z
UID:7022-1726074000-1726079400@siskiyouhealthcenter.com
SUMMARY:Illinois Valley High School Open House
DESCRIPTION:Come visit our School-Based Health Center team at the Illinois Valley High School open house on Wednesday\, September 11th from 5 to 6:30 pm. Learn more about how the team supports IVHS students throughout the school year. \nWe hope to see you there!
URL:https://siskiyouhealthcenter.com/event/evergreen-elementary-school-open-house/
LOCATION:Illinois Valley High School\, 625 E. River St.\, Cave Junction\, 97523\, United States
END:VEVENT
END:VCALENDAR