BEGIN:VCALENDAR
VERSION:2.0
PRODID:-//Siskiyou Community Health Center - ECPv6.15.20//NONSGML v1.0//EN
CALSCALE:GREGORIAN
METHOD:PUBLISH
X-ORIGINAL-URL:https://siskiyouhealthcenter.com
X-WR-CALDESC:Events for Siskiyou Community Health Center
REFRESH-INTERVAL;VALUE=DURATION:PT1H
X-Robots-Tag:noindex
X-PUBLISHED-TTL:PT1H
BEGIN:VTIMEZONE
TZID:UTC
BEGIN:STANDARD
TZOFFSETFROM:+0000
TZOFFSETTO:+0000
TZNAME:UTC
DTSTART:20230101T000000
END:STANDARD
END:VTIMEZONE
BEGIN:VEVENT
DTSTART;TZID=UTC:20240913T090000
DTEND;TZID=UTC:20240913T150000
DTSTAMP:20260425T204955
CREATED:20240905T015336Z
LAST-MODIFIED:20240905T015336Z
UID:7058-1726218000-1726239600@siskiyouhealthcenter.com
SUMMARY:Tee Off For Kids Charity Golf Tournament
DESCRIPTION:Siskiyou Community Health Center presents the 15th annual Tee Off For Kids golf tournament. Proceeds from this charity event support our Kids Smile Dental Prevention and Project Baby Check programs.
URL:https://siskiyouhealthcenter.com/event/tee-off-for-kids-charity-golf-tournament-2/
LOCATION:Grants Pass Golf Club\, 230 Espey Road\, Grants Pass\, OR\, 97527\, United States
END:VEVENT
END:VCALENDAR