BEGIN:VCALENDAR
VERSION:2.0
PRODID:-//Siskiyou Community Health Center - ECPv6.15.20//NONSGML v1.0//EN
CALSCALE:GREGORIAN
METHOD:PUBLISH
X-ORIGINAL-URL:https://siskiyouhealthcenter.com
X-WR-CALDESC:Events for Siskiyou Community Health Center
REFRESH-INTERVAL;VALUE=DURATION:PT1H
X-Robots-Tag:noindex
X-PUBLISHED-TTL:PT1H
BEGIN:VTIMEZONE
TZID:UTC
BEGIN:STANDARD
TZOFFSETFROM:+0000
TZOFFSETTO:+0000
TZNAME:UTC
DTSTART:20230101T000000
END:STANDARD
END:VTIMEZONE
BEGIN:VEVENT
DTSTART;TZID=UTC:20240921T103000
DTEND;TZID=UTC:20240921T143000
DTSTAMP:20260425T204927
CREATED:20240904T231101Z
LAST-MODIFIED:20240904T231101Z
UID:7039-1726914600-1726929000@siskiyouhealthcenter.com
SUMMARY:Community Baby Shower
DESCRIPTION:The Southern Oregon Prenatal Task Force will host a Welcome Baby community baby shower at Grants Pass High School. All new and expecting parents are welcome. Come visit the Siskiyou booth and pick up a baby swaddle and an infant toothbrush. We hope to see you there!
URL:https://siskiyouhealthcenter.com/event/community-baby-shower/
LOCATION:Grants Pass High School\, 830 NE 9th St.\, Grants Pass\, 97526\, United States
END:VEVENT
END:VCALENDAR