BEGIN:VCALENDAR
VERSION:2.0
PRODID:-//Siskiyou Community Health Center - ECPv6.15.20//NONSGML v1.0//EN
CALSCALE:GREGORIAN
METHOD:PUBLISH
X-WR-CALNAME:Siskiyou Community Health Center
X-ORIGINAL-URL:https://siskiyouhealthcenter.com
X-WR-CALDESC:Events for Siskiyou Community Health Center
REFRESH-INTERVAL;VALUE=DURATION:PT1H
X-Robots-Tag:noindex
X-PUBLISHED-TTL:PT1H
BEGIN:VTIMEZONE
TZID:UTC
BEGIN:STANDARD
TZOFFSETFROM:+0000
TZOFFSETTO:+0000
TZNAME:UTC
DTSTART:20230101T000000
END:STANDARD
END:VTIMEZONE
BEGIN:VEVENT
DTSTART;TZID=UTC:20240924T080000
DTEND;TZID=UTC:20240924T140000
DTSTAMP:20260425T204931
CREATED:20240905T013331Z
LAST-MODIFIED:20240905T013331Z
UID:7044-1727164800-1727186400@siskiyouhealthcenter.com
SUMMARY:Free Dental Screenings at Allen Dale Elementary
DESCRIPTION:Each year\, Siskiyou Community Health Center’s Kids Smile Dental Prevention Program goes to local schools to provide free dental screenings to students. We provide approximately 2\,250 dental screenings for grades K-5 between the six schools we visit. \nIf you are a parent of a children at one of these schools you don’t need to do anything for your child to be seen. You can\, of course\, opt out if you would like.
URL:https://siskiyouhealthcenter.com/event/free-dental-screenings-at-allen-dale-elementary/
LOCATION:Allen Dale Elementary School\, 2320 Williams Hwy.\, Grants Pass\, 97527\, United States
END:VEVENT
BEGIN:VEVENT
DTSTART;TZID=UTC:20240924T080000
DTEND;TZID=UTC:20240924T140000
DTSTAMP:20260425T204931
CREATED:20240905T013428Z
LAST-MODIFIED:20240905T013428Z
UID:7046-1727164800-1727186400@siskiyouhealthcenter.com
SUMMARY:Free Dental Screenings at Redwood Elementary School
DESCRIPTION:Each year\, Siskiyou Community Health Center’s Kids Smile Dental Prevention Program goes to local schools to provide free dental screenings to students. We provide approximately 2\,250 dental screenings for grades K-5 between the six schools we visit. \nIf you are a parent of a children at one of these schools you don’t need to do anything for your child to be seen. You can\, of course\, opt out if you would like.
URL:https://siskiyouhealthcenter.com/event/free-dental-screenings-at-redwood-elementary-school/
LOCATION:Redwood Elementary School\, 3163 Leonard Rd.\, Grants Pass\, OR\, 97527\, United States
END:VEVENT
END:VCALENDAR