BEGIN:VCALENDAR
VERSION:2.0
PRODID:-//Siskiyou Community Health Center - ECPv6.15.20//NONSGML v1.0//EN
CALSCALE:GREGORIAN
METHOD:PUBLISH
X-ORIGINAL-URL:https://siskiyouhealthcenter.com
X-WR-CALDESC:Events for Siskiyou Community Health Center
REFRESH-INTERVAL;VALUE=DURATION:PT1H
X-Robots-Tag:noindex
X-PUBLISHED-TTL:PT1H
BEGIN:VTIMEZONE
TZID:UTC
BEGIN:STANDARD
TZOFFSETFROM:+0000
TZOFFSETTO:+0000
TZNAME:UTC
DTSTART:20220101T000000
END:STANDARD
END:VTIMEZONE
BEGIN:VEVENT
DTSTART;TZID=UTC:20231012T090000
DTEND;TZID=UTC:20231012T170000
DTSTAMP:20260425T113450
CREATED:20231012T023406Z
LAST-MODIFIED:20231012T030155Z
UID:6041-1697101200-1697130000@siskiyouhealthcenter.com
SUMMARY:Flu and COVID-19 Shot Clinics
DESCRIPTION:Siskiyou Community Health Center is offering Flu and COVID vaccines for the entire month of October. \nNo appointment is necessary. At the same time\, ask for the updated Moderna COVID-19 vaccine to provide protection against the latest COVID variants.* You do not need to be a patient of Siskiyou to visit our shot clinics. For more information on the vaccines\, click here. \nIf you do not have insurance\, or are under-insured\, you may qualify for financial assistance. You can find the application here. \nPlease complete the application prior to your arrival at the flu clinic\, or payment will be collected at that time. \n*COVID vaccines based on availability.
URL:https://siskiyouhealthcenter.com/event/flu-and-covid-19-shot-clinics/
END:VEVENT
BEGIN:VEVENT
DTSTART;TZID=UTC:20231013T090000
DTEND;TZID=UTC:20231013T180000
DTSTAMP:20260425T113450
CREATED:20231012T023739Z
LAST-MODIFIED:20231012T030259Z
UID:6043-1697187600-1697220000@siskiyouhealthcenter.com
SUMMARY:Flu and COVID-19 Shot Clinics
DESCRIPTION:Time to protect yourself and your loved ones from the Flu and COVID. \nSiskiyou Community Health Center is offering drive-thru flu and COVID vaccines for the entire month of October. \nNo appointment is necessary and you can stay in your car. At the same time\, ask for the updated Moderna COVID-19 vaccine to provide protection against the latest COVID variants.* You do not need to be a patient of Siskiyou to visit our shot clinics. For more information on the vaccines\, click here. \nIf you do not have insurance\, or are under-insured\, you may qualify for financial assistance. You can find the application here. \nPlease complete the application prior to your arrival at the flu clinic\, or payment will be collected at that time. \n*COVID vaccines based on availability.
URL:https://siskiyouhealthcenter.com/event/flu-and-covid-19-shot-clinics-2/
END:VEVENT
BEGIN:VEVENT
DTSTART;TZID=UTC:20231019T090000
DTEND;TZID=UTC:20231019T170000
DTSTAMP:20260425T113450
CREATED:20231014T023416Z
LAST-MODIFIED:20231014T023416Z
UID:6082-1697706000-1697734800@siskiyouhealthcenter.com
SUMMARY:Flu and COVID-19 Shot Clinics
DESCRIPTION:Need your flu shot? \nWe are offering shot clinics at our Cave Junction location every Thursday in October from 9am to 5pm. No appointment is necessary and you do not need to be a patient of Siskiyou. At the same time\, ask for the updated Moderna COVID-19 vaccine to provide protection against the latest COVID variants.* Our clinic offers flu and COVID vaccines for all eligible ages. \nIf you do not have insurance\, or are under-insured\, you may qualify for financial assistance. You can find the application here: \nhttps://siskiyouhealthcenter.com/wp-content/uploads/2019/10/Form9124_EligibilityAp_100719.pdf \nPlease complete the application prior to your arrival at the flu clinic\, or payment will be collected at that time. \n*COVID vaccines based on availability.
URL:https://siskiyouhealthcenter.com/event/flu-and-covid-19-shot-clinics-3/
LOCATION:Siskiyou Community Health Center\, 1701 NW Hawthorne Ave.\, Grants Pass\, OR\, 97526\, United States
END:VEVENT
BEGIN:VEVENT
DTSTART;TZID=UTC:20231020T090000
DTEND;TZID=UTC:20231020T180000
DTSTAMP:20260425T113450
CREATED:20231014T024004Z
LAST-MODIFIED:20231014T024004Z
UID:6088-1697792400-1697824800@siskiyouhealthcenter.com
SUMMARY:Flu and COVID-19 Shot Clinics
DESCRIPTION:Need your flu shot? We are offering drive-thru shot clinics at our Grants Pass location every Friday in October from 9am to 6pm. No appointment is necessary\, and you can stay in your vehicle. \nAt the same time\, ask for the updated Moderna COVID-19 vaccine to provide protection against the latest COVID variants.* Our clinic offers flu and COVID vaccines for all eligible ages. You do not need to be a patient of Siskiyou to visit our shot clinics. \nIf you do not have insurance\, or are under-insured\, you may qualify for financial assistance. You can find the application here: \nhttps://siskiyouhealthcenter.com/wp-content/uploads/2019/10/Form9124_EligibilityAp_100719.pdf \nPlease complete the application prior to your arrival at the flu clinic\, or payment will be collected at that time. \n*COVID vaccines based on availability.
URL:https://siskiyouhealthcenter.com/event/flu-and-covid-19-shot-clinics-5/
LOCATION:Siskiyou Community Health Center\, Grants Pass\, 1701 NW Hawthorne Avenue\, Grants Pass\, OR\, 97526\, United States
END:VEVENT
BEGIN:VEVENT
DTSTART;TZID=UTC:20231026T090000
DTEND;TZID=UTC:20231026T170000
DTSTAMP:20260425T113450
CREATED:20231014T023513Z
LAST-MODIFIED:20231014T023513Z
UID:6085-1698310800-1698339600@siskiyouhealthcenter.com
SUMMARY:Flu and COVID-19 Shot Clinics
DESCRIPTION:Need your flu shot? \nWe are offering shot clinics at our Cave Junction location every Thursday in October from 9am to 5pm. No appointment is necessary and you do not need to be a patient of Siskiyou. At the same time\, ask for the updated Moderna COVID-19 vaccine to provide protection against the latest COVID variants.* Our clinic offers flu and COVID vaccines for all eligible ages. \nIf you do not have insurance\, or are under-insured\, you may qualify for financial assistance. You can find the application here: \nhttps://siskiyouhealthcenter.com/wp-content/uploads/2019/10/Form9124_EligibilityAp_100719.pdf \nPlease complete the application prior to your arrival at the flu clinic\, or payment will be collected at that time. \n*COVID vaccines based on availability.
URL:https://siskiyouhealthcenter.com/event/flu-and-covid-19-shot-clinics-4/
LOCATION:Siskiyou Community Health Center\, 1701 NW Hawthorne Ave.\, Grants Pass\, OR\, 97526\, United States
END:VEVENT
BEGIN:VEVENT
DTSTART;TZID=UTC:20231027T090000
DTEND;TZID=UTC:20231027T180000
DTSTAMP:20260425T113450
CREATED:20231014T024046Z
LAST-MODIFIED:20231014T024046Z
UID:6090-1698397200-1698429600@siskiyouhealthcenter.com
SUMMARY:Flu and COVID-19 Shot Clinics
DESCRIPTION:Need your flu shot? We are offering drive-thru shot clinics at our Grants Pass location every Friday in October from 9am to 6pm. No appointment is necessary\, and you can stay in your vehicle. \nAt the same time\, ask for the updated Moderna COVID-19 vaccine to provide protection against the latest COVID variants.* Our clinic offers flu and COVID vaccines for all eligible ages. You do not need to be a patient of Siskiyou to visit our shot clinics. \nIf you do not have insurance\, or are under-insured\, you may qualify for financial assistance. You can find the application here: \nhttps://siskiyouhealthcenter.com/wp-content/uploads/2019/10/Form9124_EligibilityAp_100719.pdf \nPlease complete the application prior to your arrival at the flu clinic\, or payment will be collected at that time. \n*COVID vaccines based on availability.
URL:https://siskiyouhealthcenter.com/event/flu-and-covid-19-shot-clinics-6/
END:VEVENT
END:VCALENDAR