BEGIN:VCALENDAR
VERSION:2.0
PRODID:-//Siskiyou Community Health Center - ECPv6.15.20//NONSGML v1.0//EN
CALSCALE:GREGORIAN
METHOD:PUBLISH
X-ORIGINAL-URL:https://siskiyouhealthcenter.com
X-WR-CALDESC:Events for Siskiyou Community Health Center
REFRESH-INTERVAL;VALUE=DURATION:PT1H
X-Robots-Tag:noindex
X-PUBLISHED-TTL:PT1H
BEGIN:VTIMEZONE
TZID:UTC
BEGIN:STANDARD
TZOFFSETFROM:+0000
TZOFFSETTO:+0000
TZNAME:UTC
DTSTART:20230101T000000
END:STANDARD
END:VTIMEZONE
BEGIN:VEVENT
DTSTART;TZID=UTC:20240810T110000
DTEND;TZID=UTC:20240810T140000
DTSTAMP:20260425T181305
CREATED:20240726T021946Z
LAST-MODIFIED:20240801T001922Z
UID:6925-1723287600-1723298400@siskiyouhealthcenter.com
SUMMARY:Book Drive for Healthy Families/Project Baby Check
DESCRIPTION:National Health Center Week is right around the corner. Each day has a specific theme\, and Saturday\, August 10th marks Children’s Health Day. \nWe know that physical health is only part of what grows healthy children. Because of this\, our Healthy Families/Project Baby Check programs support families in their homes\, offering parenting education\, resources\, and other support. This includes putting an age-appropriate book in children’s hands every single month. \nYou can support this endeavor by visiting Barnes & Noble in Medford or Oregon Books in Grants Pass on August 10th between 11 a.m. and 2 p.m. Staff will be on-hand to tell you more about our program and give you a list of age-appropriate books. Just pick up a book (or two) while you’re shopping and drop it in the box outside the store. It’s just that easy! And if you can’t get out to stores? Check out our Amazon wish list by clicking here: \nhttps://www.amazon.com/hz/wishlist/ls/9FDP4F1FMHU/ref=hz_ls_biz_ex \nPlease have books mailed to: \nSiskiyou Community Health Center \nBook Drive \n1201 N.E. 7th St.\, Suite A \nGrants Pass\, OR 97526 \nRemember\, we are a non-profit community health center\, and most donations are tax-deductible. Consult your tax professional if you have questions. \nThank you in advance for your support.
URL:https://siskiyouhealthcenter.com/event/book-drive-for-healthy-families-project-baby-check/
LOCATION:Siskiyou Community Health Center\, 1701 NW Hawthorne Ave.\, Grants Pass\, OR\, 97526\, United States
END:VEVENT
BEGIN:VEVENT
DTSTART;TZID=UTC:20240822T110000
DTEND;TZID=UTC:20240822T123000
DTSTAMP:20260425T181305
CREATED:20240821T023033Z
LAST-MODIFIED:20240821T023033Z
UID:6986-1724324400-1724329800@siskiyouhealthcenter.com
SUMMARY:Playgroup
DESCRIPTION:Siskiyou Community Health Center playgroups offer benefits for both children and caregivers. Playgroups allow children to try out new toys and activities\, learn how to play with other children\, encourage them to work on their language and communication skills\, build their confidence and promote happiness while building their social skills. Playgroups allow caregivers to socialize with other parents\, learn more about child development and other fun events happening in the community. \nCave Junction: August 22nd 11am to 12:30pm – 25647 Redwood Hwy. \nMedford: August 30th 2pm to 3:3opm – 1380 Biddle Rd.\, Suite D
URL:https://siskiyouhealthcenter.com/event/playgroup-5/
LOCATION:Siskiyou Community Health Center Cave Junction\, 25647 Redwood Hwy.\, Cave Junction\, OR\, 97523\, United States
END:VEVENT
BEGIN:VEVENT
DTSTART;TZID=UTC:20240830T140000
DTEND;TZID=UTC:20240830T153000
DTSTAMP:20260425T181305
CREATED:20240821T023340Z
LAST-MODIFIED:20240821T023340Z
UID:6988-1725026400-1725031800@siskiyouhealthcenter.com
SUMMARY:Playgroup
DESCRIPTION:Siskiyou Community Health Center playgroups offer benefits for both children and caregivers. Playgroups allow children to try out new toys and activities\, learn how to play with other children\, encourage them to work on their language and communication skills\, build their confidence and promote happiness while building their social skills. Playgroups allow caregivers to socialize with other parents\, learn more about child development and other fun events happening in the community. \nCave Junction: August 22nd 11am to 12:30pm – 25647 Redwood Hwy. \nMedford: August 30th 2pm to 3:3opm – 1380 Biddle Rd.\, Suite D
URL:https://siskiyouhealthcenter.com/event/playgroup-6/
LOCATION:SCHC Medford Early Childhood Support\, 1380 Biddle Rd.\, Suite D\, Medford\, OR\, 97504\, United States
END:VEVENT
END:VCALENDAR