BEGIN:VCALENDAR
VERSION:2.0
PRODID:-//Siskiyou Community Health Center - ECPv6.15.20//NONSGML v1.0//EN
CALSCALE:GREGORIAN
METHOD:PUBLISH
X-ORIGINAL-URL:https://siskiyouhealthcenter.com
X-WR-CALDESC:Events for Siskiyou Community Health Center
REFRESH-INTERVAL;VALUE=DURATION:PT1H
X-Robots-Tag:noindex
X-PUBLISHED-TTL:PT1H
BEGIN:VTIMEZONE
TZID:UTC
BEGIN:STANDARD
TZOFFSETFROM:+0000
TZOFFSETTO:+0000
TZNAME:UTC
DTSTART:20230101T000000
END:STANDARD
END:VTIMEZONE
BEGIN:VEVENT
DTSTART;TZID=UTC:20240905T173000
DTEND;TZID=UTC:20240905T190000
DTSTAMP:20260425T192831
CREATED:20240904T051106Z
LAST-MODIFIED:20240904T051106Z
UID:7028-1725557400-1725562800@siskiyouhealthcenter.com
SUMMARY:Evergreen Elementary School Open House
DESCRIPTION:Come visit our School-Based Health Center team at the Evergreen Elementary School open house on Thursday\, September 5th from 5:30 to 7 pm. Learn more about how the team supports Evergreen students throughout the school year. \nWe hope to see you there!
URL:https://siskiyouhealthcenter.com/event/evergreen-elementary-school-open-house-2/
LOCATION:Evergreen Elementary School\, 520 W. River St.\, Cave Junction\, OR\, 97523\, United States
END:VEVENT
BEGIN:VEVENT
DTSTART;TZID=UTC:20240911T170000
DTEND;TZID=UTC:20240911T183000
DTSTAMP:20260425T192831
CREATED:20240904T050839Z
LAST-MODIFIED:20240904T051023Z
UID:7022-1726074000-1726079400@siskiyouhealthcenter.com
SUMMARY:Illinois Valley High School Open House
DESCRIPTION:Come visit our School-Based Health Center team at the Illinois Valley High School open house on Wednesday\, September 11th from 5 to 6:30 pm. Learn more about how the team supports IVHS students throughout the school year. \nWe hope to see you there!
URL:https://siskiyouhealthcenter.com/event/evergreen-elementary-school-open-house/
LOCATION:Illinois Valley High School\, 625 E. River St.\, Cave Junction\, 97523\, United States
END:VEVENT
BEGIN:VEVENT
DTSTART;TZID=UTC:20240912T100000
DTEND;TZID=UTC:20240912T113000
DTSTAMP:20260425T192831
CREATED:20240905T232420Z
LAST-MODIFIED:20240905T232420Z
UID:7061-1726135200-1726140600@siskiyouhealthcenter.com
SUMMARY:Playgroup
DESCRIPTION:Come join the Siskiyou Community Health Center Outreach team at our Grants Pass playgroup. This is open to the public. Come learn about our programs\, meet other parents\, and engage in enrichment activities with your child or children. We hope to see you there!
URL:https://siskiyouhealthcenter.com/event/playgroup-7/
LOCATION:Growing Together\, 310 SW H St.\, Grants Pass\, OR\, 97526\, United States
END:VEVENT
BEGIN:VEVENT
DTSTART;TZID=UTC:20240912T170000
DTEND;TZID=UTC:20240912T183000
DTSTAMP:20260425T192831
CREATED:20240904T051303Z
LAST-MODIFIED:20240904T051303Z
UID:7030-1726160400-1726165800@siskiyouhealthcenter.com
SUMMARY:Lorna Byrne Middle School Open House
DESCRIPTION:Come visit our School-Based Health Center team at the Lorna Byrne Middle School open house on Friday\, September 12th from 5 to 6:30 pm. Learn more about how the team supports Lorna Byrne students throughout the school year. \nWe hope to see you there!
URL:https://siskiyouhealthcenter.com/event/lorna-byrne-middle-school-open-house/
LOCATION:Lorna Byrne Middle School\, 101 S. Junction Ave.\, Cave Junction\, OR\, 97523\, United States
END:VEVENT
BEGIN:VEVENT
DTSTART;TZID=UTC:20240913T090000
DTEND;TZID=UTC:20240913T150000
DTSTAMP:20260425T192831
CREATED:20240905T015336Z
LAST-MODIFIED:20240905T015336Z
UID:7058-1726218000-1726239600@siskiyouhealthcenter.com
SUMMARY:Tee Off For Kids Charity Golf Tournament
DESCRIPTION:Siskiyou Community Health Center presents the 15th annual Tee Off For Kids golf tournament. Proceeds from this charity event support our Kids Smile Dental Prevention and Project Baby Check programs.
URL:https://siskiyouhealthcenter.com/event/tee-off-for-kids-charity-golf-tournament-2/
LOCATION:Grants Pass Golf Club\, 230 Espey Road\, Grants Pass\, OR\, 97527\, United States
END:VEVENT
BEGIN:VEVENT
DTSTART;TZID=UTC:20240921T103000
DTEND;TZID=UTC:20240921T143000
DTSTAMP:20260425T192831
CREATED:20240904T231101Z
LAST-MODIFIED:20240904T231101Z
UID:7039-1726914600-1726929000@siskiyouhealthcenter.com
SUMMARY:Community Baby Shower
DESCRIPTION:The Southern Oregon Prenatal Task Force will host a Welcome Baby community baby shower at Grants Pass High School. All new and expecting parents are welcome. Come visit the Siskiyou booth and pick up a baby swaddle and an infant toothbrush. We hope to see you there!
URL:https://siskiyouhealthcenter.com/event/community-baby-shower/
LOCATION:Grants Pass High School\, 830 NE 9th St.\, Grants Pass\, 97526\, United States
END:VEVENT
BEGIN:VEVENT
DTSTART;TZID=UTC:20240924T080000
DTEND;TZID=UTC:20240924T140000
DTSTAMP:20260425T192831
CREATED:20240905T013331Z
LAST-MODIFIED:20240905T013331Z
UID:7044-1727164800-1727186400@siskiyouhealthcenter.com
SUMMARY:Free Dental Screenings at Allen Dale Elementary
DESCRIPTION:Each year\, Siskiyou Community Health Center’s Kids Smile Dental Prevention Program goes to local schools to provide free dental screenings to students. We provide approximately 2\,250 dental screenings for grades K-5 between the six schools we visit. \nIf you are a parent of a children at one of these schools you don’t need to do anything for your child to be seen. You can\, of course\, opt out if you would like.
URL:https://siskiyouhealthcenter.com/event/free-dental-screenings-at-allen-dale-elementary/
LOCATION:Allen Dale Elementary School\, 2320 Williams Hwy.\, Grants Pass\, 97527\, United States
END:VEVENT
BEGIN:VEVENT
DTSTART;TZID=UTC:20240924T080000
DTEND;TZID=UTC:20240924T140000
DTSTAMP:20260425T192831
CREATED:20240905T013428Z
LAST-MODIFIED:20240905T013428Z
UID:7046-1727164800-1727186400@siskiyouhealthcenter.com
SUMMARY:Free Dental Screenings at Redwood Elementary School
DESCRIPTION:Each year\, Siskiyou Community Health Center’s Kids Smile Dental Prevention Program goes to local schools to provide free dental screenings to students. We provide approximately 2\,250 dental screenings for grades K-5 between the six schools we visit. \nIf you are a parent of a children at one of these schools you don’t need to do anything for your child to be seen. You can\, of course\, opt out if you would like.
URL:https://siskiyouhealthcenter.com/event/free-dental-screenings-at-redwood-elementary-school/
LOCATION:Redwood Elementary School\, 3163 Leonard Rd.\, Grants Pass\, OR\, 97527\, United States
END:VEVENT
BEGIN:VEVENT
DTSTART;TZID=UTC:20240925T080000
DTEND;TZID=UTC:20240925T140000
DTSTAMP:20260425T192831
CREATED:20240905T013510Z
LAST-MODIFIED:20240905T013510Z
UID:7048-1727251200-1727272800@siskiyouhealthcenter.com
SUMMARY:Free Dental Screenings at Highland Elementary School
DESCRIPTION:Each year\, Siskiyou Community Health Center’s Kids Smile Dental Prevention Program goes to local schools to provide free dental screenings to students. We provide approximately 2\,250 dental screenings for grades K-5 between the six schools we visit. \nIf you are a parent of a children at one of these schools you don’t need to do anything for your child to be seen. You can\, of course\, opt out if you would like.
URL:https://siskiyouhealthcenter.com/event/free-dental-screenings-at-highland-elementary-school/
LOCATION:Highland Elementary School\, 1845 NW Highland Ave.\, Grants Pass\, OR\, 97526\, United States
END:VEVENT
BEGIN:VEVENT
DTSTART;TZID=UTC:20240925T080000
DTEND;TZID=UTC:20240925T140000
DTSTAMP:20260425T192831
CREATED:20240905T013545Z
LAST-MODIFIED:20240905T013545Z
UID:7050-1727251200-1727272800@siskiyouhealthcenter.com
SUMMARY:Free Dental Screenings at Parkside Elementary School
DESCRIPTION:Each year\, Siskiyou Community Health Center’s Kids Smile Dental Prevention Program goes to local schools to provide free dental screenings to students. We provide approximately 2\,250 dental screenings for grades K-5 between the six schools we visit. \nIf you are a parent of a children at one of these schools you don’t need to do anything for your child to be seen. You can\, of course\, opt out if you would like.
URL:https://siskiyouhealthcenter.com/event/free-dental-screenings-at-parkside-elementary-school/
LOCATION:Parkside Elementary School\, 735 SW Wagner Meadows Dr.\, Grants Pass\, OR\, 97526\, United States
END:VEVENT
BEGIN:VEVENT
DTSTART;TZID=UTC:20240926T080000
DTEND;TZID=UTC:20240926T140000
DTSTAMP:20260425T192831
CREATED:20240905T013622Z
LAST-MODIFIED:20240905T013622Z
UID:7052-1727337600-1727359200@siskiyouhealthcenter.com
SUMMARY:Free Dental Screenings at Lincoln Elementary School
DESCRIPTION:Each year\, Siskiyou Community Health Center’s Kids Smile Dental Prevention Program goes to local schools to provide free dental screenings to students. We provide approximately 2\,250 dental screenings for grades K-5 between the six schools we visit. \nIf you are a parent of a children at one of these schools you don’t need to do anything for your child to be seen. You can\, of course\, opt out if you would like.
URL:https://siskiyouhealthcenter.com/event/free-dental-screenings-at-lincoln-elementary-school/
LOCATION:Lincoln Elementary School\, 1132 NE 10th St.\, Grants Pass\, OR\, 97526\, United States
END:VEVENT
BEGIN:VEVENT
DTSTART;TZID=UTC:20240926T080000
DTEND;TZID=UTC:20240926T140000
DTSTAMP:20260425T192831
CREATED:20240905T013657Z
LAST-MODIFIED:20240905T013657Z
UID:7054-1727337600-1727359200@siskiyouhealthcenter.com
SUMMARY:Free Dental Screenings at Riverside Elementary School
DESCRIPTION:Each year\, Siskiyou Community Health Center’s Kids Smile Dental Prevention Program goes to local schools to provide free dental screenings to students. We provide approximately 2\,250 dental screenings for grades K-5 between the six schools we visit. \nIf you are a parent of a children at one of these schools you don’t need to do anything for your child to be seen. You can\, of course\, opt out if you would like.
URL:https://siskiyouhealthcenter.com/event/free-dental-screenings-at-riverside-elementary-school/
LOCATION:Riverside Elementary School\, 1200 SE Harvey Dr.\, Grants Pass\, OR\, 97526\, United States
END:VEVENT
BEGIN:VEVENT
DTSTART;TZID=UTC:20240926T090000
DTEND;TZID=UTC:20240926T160000
DTSTAMP:20260425T192831
CREATED:20240912T053002Z
LAST-MODIFIED:20240912T053002Z
UID:7079-1727341200-1727366400@siskiyouhealthcenter.com
SUMMARY:Cave Junction Flu Clinic
DESCRIPTION:Siskiyou Community Health Center is offering a flu clinic at our Cave Junction location on Thursday\, 9/26 from 9 am to 4 pm. We will bill most insurance plans.
URL:https://siskiyouhealthcenter.com/event/cave-junction-flu-clinic/
LOCATION:Siskiyou Community Health Center Cave Junction\, 25647 Redwood Hwy.\, Cave Junction\, OR\, 97523\, United States
END:VEVENT
BEGIN:VEVENT
DTSTART;TZID=UTC:20240926T110000
DTEND;TZID=UTC:20240926T123000
DTSTAMP:20260425T192831
CREATED:20240905T232548Z
LAST-MODIFIED:20240905T232548Z
UID:7064-1727348400-1727353800@siskiyouhealthcenter.com
SUMMARY:Playgroup
DESCRIPTION:Come join the Siskiyou Community Health Center Outreach team at our Grants Pass playgroup. This is open to the public. Come learn about our programs\, meet other parents\, and engage in enrichment activities with your child or children. We hope to see you there!
URL:https://siskiyouhealthcenter.com/event/playgroup-8/
LOCATION:Siskiyou Community Health Center Cave Junction\, 25647 Redwood Hwy.\, Cave Junction\, OR\, 97523\, United States
END:VEVENT
BEGIN:VEVENT
DTSTART;TZID=UTC:20240927T090000
DTEND;TZID=UTC:20240927T170000
DTSTAMP:20260425T192831
CREATED:20240912T052726Z
LAST-MODIFIED:20240912T052726Z
UID:7073-1727427600-1727456400@siskiyouhealthcenter.com
SUMMARY:Drive-Thru Flu Clinic
DESCRIPTION:Siskiyou Community Health Center is offering a drive-thru flu clinic on Friday\, 9/27 from 9 am to 5 pm. We will bill most insurance plans.
URL:https://siskiyouhealthcenter.com/event/drive-thru-flu-clinic/
LOCATION:Siskiyou Community Health Center\, Grants Pass\, 1701 NW Hawthorne Avenue\, Grants Pass\, OR\, 97526\, United States
END:VEVENT
END:VCALENDAR